BEGIN:VCALENDAR
VERSION:2.0
CALSCALE:GREGORIAN
PRODID:-//Diputació de Barcelona//DibaCMS//EN
BEGIN:VEVENT
UID:4784
DTSTAMP:20260422T110146
DTSTART:20181022T180000
DTEND:20181022T190000
SUMMARY:Alcaldessa i regidors: Junta de Govern
LOCATION:Nou, 26 08458 Sant Pere de Vilamajor
METHOD:PUBLISH
X-WR-CALNAME:ajuntament@vilamajor.cat
X-WR-TIMEZONE:Europe/Madrid
DESCRIPTION:
URI:https://www.vilamajor.cat//continguts//4784-alcaldessa-i-regidors-junta-de-govern.html
CLASS:PUBLIC
END:VEVENT
END:VCALENDAR
