BEGIN:VCALENDAR
VERSION:2.0
CALSCALE:GREGORIAN
PRODID:-//Diputació de Barcelona//DibaCMS//EN
BEGIN:VEVENT
UID:4938
DTSTAMP:20260421T113155
DTSTART:20180725T100000
DTEND:20180725T110000
SUMMARY:Alcaldessa i tècnics: reunió de coordinació
LOCATION:Nou, 26 08458 Sant Pere de Vilamajor
METHOD:PUBLISH
X-WR-CALNAME:ajuntament@vilamajor.cat
X-WR-TIMEZONE:Europe/Madrid
DESCRIPTION:
URI:https://www.vilamajor.cat//continguts//4938-alcaldessa-i-tecnics-reunio-de-coordinacio.html
CLASS:PUBLIC
END:VEVENT
END:VCALENDAR
