BEGIN:VCALENDAR
VERSION:2.0
CALSCALE:GREGORIAN
PRODID:-//Diputació de Barcelona//DibaCMS//EN
BEGIN:VEVENT
UID:5985
DTSTAMP:20260421T110156
DTSTART:20201125T110000
DTEND:20201125T140000
SUMMARY:Consell d'Alcaldies
LOCATION:Totes les reunions es fan de manera telemàtica a causa de la pandèmia. 
METHOD:PUBLISH
X-WR-CALNAME:ajuntament@vilamajor.cat
X-WR-TIMEZONE:Europe/Madrid
DESCRIPTION:
URI:https://www.vilamajor.cat//continguts//consell-dalcaldies.html
CLASS:PUBLIC
END:VEVENT
END:VCALENDAR
