BEGIN:VCALENDAR
VERSION:2.0
CALSCALE:GREGORIAN
PRODID:-//Diputació de Barcelona//DibaCMS//EN
BEGIN:VEVENT
UID:6004
DTSTAMP:20260421T103528
DTSTART:20201207T095000
DTEND:20201207T110000
SUMMARY:Tràmit de Recursos Humans
LOCATION:
METHOD:PUBLISH
X-WR-CALNAME:ajuntament@vilamajor.cat
X-WR-TIMEZONE:Europe/Madrid
DESCRIPTION:
URI:https://www.vilamajor.cat//continguts//tramit-de-recursos-humans.html
CLASS:PUBLIC
END:VEVENT
END:VCALENDAR
