BEGIN:VCALENDAR
VERSION:2.0
CALSCALE:GREGORIAN
PRODID:-//Diputació de Barcelona//DibaCMS//EN
BEGIN:VEVENT
UID:6307
DTSTAMP:20260421T181639
DTSTART:20220217T080000
DTEND:20220217T140000
SUMMARY:ITV vehicles agrícoles
LOCATION:Camp de la riera  - Avinguda de Sant Nonet 
METHOD:PUBLISH
X-WR-CALNAME:ajuntament@vilamajor.cat
X-WR-TIMEZONE:Europe/Madrid
DESCRIPTION:El proper 17 de febrer de 2022 es desplaçarà una unitat mòbil al municipi per tal de realitzar les inspeccions tècniques.

Emplaçament: Camps de la Riera (camp dels cavalls) - Avinguda de Sant Nonet
Horari:  de 8:00 a 14:00hCal reservar hora prèviament trucant a l'ajuntament 93 845 00 08
 




URI:https://www.vilamajor.cat/actualitat/agenda/6307-itv-vehicles-agricoles.html
CLASS:PUBLIC
END:VEVENT
END:VCALENDAR
