BEGIN:VCALENDAR
VERSION:2.0
CALSCALE:GREGORIAN
PRODID:-//Diputació de Barcelona//DibaCMS//EN
BEGIN:VEVENT
UID:6926
DTSTAMP:20260423T010636
DTSTART:20240629T103000
DTEND:20240629T103000
SUMMARY:Presentació del "Cor del balneari" i inauguració de l'exposició "Confidències d'una reina"
LOCATION:Església, 3 08458 Sant Pere de Vilamajor
METHOD:PUBLISH
X-WR-CALNAME:ajuntament@vilamajor.cat
X-WR-TIMEZONE:Europe/Madrid
DESCRIPTION:A les 10:30h a la plaça del campanar i a la Mongia de Vilamajor.


	Presentació de la novel·la El Cor del balneari PREMI NÉSTOR LUJAN 2024 de Teresa Sagrera en conversa amb Mònica Socías.
	i, tot seguit, brindem per la inauguració l’exposició fotogràfica d’Enric Planas de la novel·la Confidències d’una reina FINALISTA PREMI NÉSTOR LUJAN 2012 de Teresa Sagrera.


URI:https://www.vilamajor.cat/actualitat/agenda/presentacio-del-cor-del-balneari-i-inauguracio-de-lexposicio-confidencies-duna-reina.html
CLASS:PUBLIC
END:VEVENT
END:VCALENDAR
