BEGIN:VCALENDAR
VERSION:2.0
CALSCALE:GREGORIAN
PRODID:-//Diputació de Barcelona//DibaCMS//EN
BEGIN:VEVENT
UID:7340
DTSTAMP:20260426T024035
DTSTART:20260214T170000
DTEND:20260214T170000
SUMMARY:Rua, concurs de disfresses de Carnestoltes 2026 i festa infantil de tarda
LOCATION:C/Ginebró, 3  08458 Sant Pere de Vilamajor
METHOD:PUBLISH
X-WR-CALNAME:ajuntament@vilamajor.cat
X-WR-TIMEZONE:Europe/Madrid
DESCRIPTION:Arriba el Carnestoltes 2026 a Sant Pere de Vilamajor amb una tarda plena de color, música i diversió per a totes les edats! 🎭🎉 La rua, el concurs de disfresses i la festa infantil ompliran els carrers d’alegria i creativitat, convidant petits i grans a sortir al carrer, lluir les seves millors disfresses i compartir una estona festiva en comunitat. Prepareu la colla, deixeu volar la imaginació i veniu a viure el dia més esbojarrat de l’any! 🥳

URI:https://www.vilamajor.cat/actualitat/agenda/rua-concurs-de-disfresses-de-carnestoltes-2026-i-festa-infantil-de-tarda.html
CLASS:PUBLIC
END:VEVENT
END:VCALENDAR
