BEGIN:VCALENDAR
VERSION:2.0
CALSCALE:GREGORIAN
PRODID:-//Diputació de Barcelona//DibaCMS//EN
BEGIN:VEVENT
UID:7341
DTSTAMP:20260426T022637
DTSTART:20260214T223000
DTEND:20260214T223000
SUMMARY:Festa jove - nit de carnestoltes
LOCATION:C/Ginebró, 3  08458 Sant Pere de Vilamajor
METHOD:PUBLISH
X-WR-CALNAME:ajuntament@vilamajor.cat
X-WR-TIMEZONE:Europe/Madrid
DESCRIPTION:Arriba la nit més esbojarrada del Carnaval a Sant Pere de Vilamajor! El local La Fàbrica s’omplirà de música, ritme i bon ambient amb una festa pensada especialment per al públic jove. La vetllada començarà amb el directe enèrgic de BIG MOUTHERS, un grup de versions que farà vibrar la pista, i continuarà amb la sessió de DJ Adrià Ortega, que ens farà ballar fins ben entrada la matinada. Hi haurà barra a càrrec de les famílies de 6è de l’Escola Torre Roja, així que a més de passar-ho bé, col·laboraràs amb una bona causa.

URI:https://www.vilamajor.cat/actualitat/agenda/festa-jove-nit-de-carnestoltes.html
CLASS:PUBLIC
END:VEVENT
END:VCALENDAR
