BEGIN:VCALENDAR
VERSION:2.0
CALSCALE:GREGORIAN
PRODID:-//Diputació de Barcelona//DibaCMS//EN
BEGIN:VEVENT
UID:7345
DTSTAMP:20260426T023706
DTSTART:20260214T120000
DTEND:20260214T120000
SUMMARY:Inauguració de l'exposició: Cent gorgs del Montseny i una dona d'aigua
LOCATION:Església, 3 08458 Sant Pere de Vilamajor
METHOD:PUBLISH
X-WR-CALNAME:ajuntament@vilamajor.cat
X-WR-TIMEZONE:Europe/Madrid
DESCRIPTION:La Mongia de Vilamajor inaugura l’exposició fotogràfica de Ricard Mateo, un recorregut visual per més d’un centenar de gorgs i salts d’aigua del massís del Montseny, captats entre natura, misteri i llegenda. Una proposta poètica que posa en valor la bellesa de l’aigua i la fragilitat dels ecosistemes dins la Reserva de la Biosfera del Montseny.

La inauguració comptarà amb la presentació de Sebastià d’Arbó, periodista, escriptor i divulgador, que oferirà una lectura cultural i simbòlica de l’exposició, seguida d’una visita comentada amb l’autor.

URI:https://www.vilamajor.cat/actualitat/agenda/inauguracio-de-lexposicio-cent-gorgs-del-montseny-i-una-dona-daigua.html
CLASS:PUBLIC
END:VEVENT
END:VCALENDAR
