BEGIN:VCALENDAR
VERSION:2.0
CALSCALE:GREGORIAN
PRODID:-//Diputació de Barcelona//DibaCMS//EN
BEGIN:VEVENT
UID:7412
DTSTAMP:20260421T113204
DTSTART:20260308T110000
DTEND:20260308T110000
SUMMARY:Dia de la Dona
LOCATION:Per previsions meteorològiques, es trasllada al Local Municipal La Fàbrica. C/ Ginebró, 3 - darrere l’Ajuntament de Sant Pere de Vilamajor 
METHOD:PUBLISH
X-WR-CALNAME:ajuntament@vilamajor.cat
X-WR-TIMEZONE:Europe/Madrid
DESCRIPTION:A les 11h, a La Fàbrica de Sant Pere de Vilamajor

URI:https://www.vilamajor.cat/actualitat/agenda/7412-dia-de-la-dona.html
CLASS:PUBLIC
END:VEVENT
END:VCALENDAR
